BEGIN:VCALENDAR
VERSION:2.0
PRODID:-//CircularPSP - ECPv6.15.15//NONSGML v1.0//EN
CALSCALE:GREGORIAN
METHOD:PUBLISH
X-WR-CALNAME:CircularPSP
X-ORIGINAL-URL:https://circularpsp.eu
X-WR-CALDESC:Events for CircularPSP
REFRESH-INTERVAL;VALUE=DURATION:PT1H
X-Robots-Tag:noindex
X-PUBLISHED-TTL:PT1H
BEGIN:VTIMEZONE
TZID:Europe/Berlin
BEGIN:DAYLIGHT
TZOFFSETFROM:+0100
TZOFFSETTO:+0200
TZNAME:CEST
DTSTART:20220327T010000
END:DAYLIGHT
BEGIN:STANDARD
TZOFFSETFROM:+0200
TZOFFSETTO:+0100
TZNAME:CET
DTSTART:20221030T010000
END:STANDARD
BEGIN:DAYLIGHT
TZOFFSETFROM:+0100
TZOFFSETTO:+0200
TZNAME:CEST
DTSTART:20230326T010000
END:DAYLIGHT
BEGIN:STANDARD
TZOFFSETFROM:+0200
TZOFFSETTO:+0100
TZNAME:CET
DTSTART:20231029T010000
END:STANDARD
BEGIN:DAYLIGHT
TZOFFSETFROM:+0100
TZOFFSETTO:+0200
TZNAME:CEST
DTSTART:20240331T010000
END:DAYLIGHT
BEGIN:STANDARD
TZOFFSETFROM:+0200
TZOFFSETTO:+0100
TZNAME:CET
DTSTART:20241027T010000
END:STANDARD
END:VTIMEZONE
BEGIN:VEVENT
DTSTART;VALUE=DATE:20231011
DTEND;VALUE=DATE:20231013
DTSTAMP:20260425T122559
CREATED:20230713T123712Z
LAST-MODIFIED:20230713T123846Z
UID:2376-1696982400-1697155199@circularpsp.eu
SUMMARY:World Summit Ai 2023
DESCRIPTION:And at the epicentre of the huge global AI transformation is World Summit AI. Since launching in 2017\, World Summit AI has been the most important summit on the planet for the development of strategies on AI and spotlighting the worldwide applications\, risks\, benefits and opportunities. Staging world leaders\, pioneers and change-makers\, you can register here! \nPreview the programme.
URL:https://circularpsp.eu/event/2376/
CATEGORIES:Relevant
ATTACH;FMTTYPE=image/png:https://circularpsp.eu/wp-content/uploads/WSAI.png
END:VEVENT
END:VCALENDAR