BEGIN:VCALENDAR
VERSION:2.0
PRODID:-//CircularPSP - ECPv6.15.15//NONSGML v1.0//EN
CALSCALE:GREGORIAN
METHOD:PUBLISH
X-ORIGINAL-URL:https://circularpsp.eu
X-WR-CALDESC:Events for CircularPSP
REFRESH-INTERVAL;VALUE=DURATION:PT1H
X-Robots-Tag:noindex
X-PUBLISHED-TTL:PT1H
BEGIN:VTIMEZONE
TZID:Europe/Berlin
BEGIN:DAYLIGHT
TZOFFSETFROM:+0100
TZOFFSETTO:+0200
TZNAME:CEST
DTSTART:20230326T010000
END:DAYLIGHT
BEGIN:STANDARD
TZOFFSETFROM:+0200
TZOFFSETTO:+0100
TZNAME:CET
DTSTART:20231029T010000
END:STANDARD
BEGIN:DAYLIGHT
TZOFFSETFROM:+0100
TZOFFSETTO:+0200
TZNAME:CEST
DTSTART:20240331T010000
END:DAYLIGHT
BEGIN:STANDARD
TZOFFSETFROM:+0200
TZOFFSETTO:+0100
TZNAME:CET
DTSTART:20241027T010000
END:STANDARD
BEGIN:DAYLIGHT
TZOFFSETFROM:+0100
TZOFFSETTO:+0200
TZNAME:CEST
DTSTART:20250330T010000
END:DAYLIGHT
BEGIN:STANDARD
TZOFFSETFROM:+0200
TZOFFSETTO:+0100
TZNAME:CET
DTSTART:20251026T010000
END:STANDARD
END:VTIMEZONE
BEGIN:VEVENT
DTSTART;TZID=Europe/Berlin:20240118T110000
DTEND;TZID=Europe/Berlin:20240118T130000
DTSTAMP:20260421T054110
CREATED:20231220T114936Z
LAST-MODIFIED:20240124T134512Z
UID:3527-1705575600-1705582800@circularpsp.eu
SUMMARY:Tender Application Training - Technical Part
DESCRIPTION:CircularPSP invites all interested parties to learn about the tender documents which have been made public. \nThis webinar coached and clarifies questions focussing on the Technical Part. There is the opportunity to read through the Tender Documents (published here) before the event and prepare questions – procurers will also be present to answer questions from the suppliers during the Q&A session. \nChallenge Summary: Suppliers are to design\, develop and test an innovative ‘circular economy solution’ (CE-solution) that enables municipalities and their staff as well as businesses in the local economy to apply circular practice more quickly\, frequently\, widely and effectively. Individual users at City and Business are empowered through access to information\, knowledge\, circular wisdom\, guidance and training to act more circular more often and increasingly impactful whilst transitioning to a CE mindset. \nAgenda: \n\nWelcome & Introduction\nTender Approach\nChallenge Brief & Expected Outcomes\nTechnical Application Template\nQ&A\n\nOther Tender Events: This is the second webinar in the Tender Event Series\, the first marked the Tender Launch Event\, the third and webinar (25 January) focusses on the Administrative and Financial Parts. Open Question Sessions will be organised on 15 February and at the end of February. \nPresentation \n \n00:00 Welcome and Introduction\n00:02:49 Tender summary\n00:06:27 Expected outcomes during Project\n00:13:37 Challenge Brief – Slides (TD2)\n00:19:43 Technical Application Template – Slides (TD6) \n00:25:12 Technical Application Template – Document (TD6) \n00:41:50 Challenge Brief – Document (TD2)\n01:36:21 Next Steps
URL:https://circularpsp.eu/event/tender-event-technical/
CATEGORIES:CircularPSP
ATTACH;FMTTYPE=image/png:https://circularpsp.eu/wp-content/uploads/Technical-Application-Training-Banner.png
END:VEVENT
END:VCALENDAR