BEGIN:VCALENDAR
VERSION:2.0
PRODID:-//CircularPSP - ECPv6.15.15//NONSGML v1.0//EN
CALSCALE:GREGORIAN
METHOD:PUBLISH
X-ORIGINAL-URL:https://circularpsp.eu
X-WR-CALDESC:Events for CircularPSP
REFRESH-INTERVAL;VALUE=DURATION:PT1H
X-Robots-Tag:noindex
X-PUBLISHED-TTL:PT1H
BEGIN:VTIMEZONE
TZID:Europe/Berlin
BEGIN:DAYLIGHT
TZOFFSETFROM:+0100
TZOFFSETTO:+0200
TZNAME:CEST
DTSTART:20240331T010000
END:DAYLIGHT
BEGIN:STANDARD
TZOFFSETFROM:+0200
TZOFFSETTO:+0100
TZNAME:CET
DTSTART:20241027T010000
END:STANDARD
BEGIN:DAYLIGHT
TZOFFSETFROM:+0100
TZOFFSETTO:+0200
TZNAME:CEST
DTSTART:20250330T010000
END:DAYLIGHT
BEGIN:STANDARD
TZOFFSETFROM:+0200
TZOFFSETTO:+0100
TZNAME:CET
DTSTART:20251026T010000
END:STANDARD
BEGIN:DAYLIGHT
TZOFFSETFROM:+0100
TZOFFSETTO:+0200
TZNAME:CEST
DTSTART:20260329T010000
END:DAYLIGHT
BEGIN:STANDARD
TZOFFSETFROM:+0200
TZOFFSETTO:+0100
TZNAME:CET
DTSTART:20261025T010000
END:STANDARD
END:VTIMEZONE
BEGIN:VEVENT
DTSTART;VALUE=DATE:20250703
DTEND;VALUE=DATE:20250705
DTSTAMP:20260420T203054
CREATED:20250219T113921Z
LAST-MODIFIED:20250219T113921Z
UID:5500-1751500800-1751673599@circularpsp.eu
SUMMARY:10th GLOBAL PROCUREMENT CONFERENCE
DESCRIPTION:University of Rome Tor Vergata\, with the School of Economics\, launched the 10th Global Procurement Conference that this year\, will take place live on July 3rd and 4th in our beautiful location in Rome\, Villa Mondragone\, a patrician villa in the suggestive territory of the Alban Hills in the area called\, from its many castles and villas\, Castelli Romani (about 20 km southeast of Rome). \nThe conference will take place in presence. There are no online sessions. \nThe goal of the Global Procurement Conference is to raise awareness for the planetary implications of joint decisions regarding what is purchased\, how and for whom in the public domain.\nThe University of Rome Tor Vergata\, has the pleasure of organizing yearly an event where experts from International Financial Institutions and regulatory bodies\, policy-makers\, economists\, engineers\, lawyers\, procurers gather for a much-needed debate concerning issues related to innovation\, competitiveness\, sustainability and regulation in public procurement worldwide. \nThe conference will be organized as follows: 3 different sessions each one with two themes to be presented and discussed by 4 speakers. \nA History of Professional Upgrading in Procurement at Tor Vergata \nTor Vergata University of Rome of Rome is a leading centre of excellence of procurement training\, consulting and research. The Master in Procurement Management broke new grounds seventeen years ago by setting new interdisciplinary standards for procurement knowledge and by uniting the fields of law\, economics\, and engineering to the curriculum of a knowledgeable procurer. In addition\, by creating a unique programme for private\, public civilian and military personnel\, we introduced the revolutionary concept of the need for a joint debate that would foster greater innovation\, responsibility\, and sustainability across the Italian economy. \nFollowing that successful initiative\, a new Master in Public Procurement Management\, IMPPM\, was created in 2012 with the decisive and generous support of the European Bank for Reconstruction and Development along with the Italian government. More than 300 public procurers from all over the world have come to Rome for 4 months to follow the interdisciplinary courses taught by some of the most important experts in procurement\, including IFI specialists\, lawyers\, economists\, and technical experts.
URL:https://circularpsp.eu/event/10th-global-procurement-conference/
LOCATION:Villa Mondragone\, Rome\, Italy
CATEGORIES:Relevant
ATTACH;FMTTYPE=image/png:https://circularpsp.eu/wp-content/uploads/Website-event-banner-4.png
END:VEVENT
END:VCALENDAR