BEGIN:VCALENDAR
VERSION:2.0
PRODID:-//CircularPSP - ECPv6.15.15//NONSGML v1.0//EN
CALSCALE:GREGORIAN
METHOD:PUBLISH
X-WR-CALNAME:CircularPSP
X-ORIGINAL-URL:https://circularpsp.eu
X-WR-CALDESC:Events for CircularPSP
REFRESH-INTERVAL;VALUE=DURATION:PT1H
X-Robots-Tag:noindex
X-PUBLISHED-TTL:PT1H
BEGIN:VTIMEZONE
TZID:Europe/Berlin
BEGIN:DAYLIGHT
TZOFFSETFROM:+0100
TZOFFSETTO:+0200
TZNAME:CEST
DTSTART:20220327T010000
END:DAYLIGHT
BEGIN:STANDARD
TZOFFSETFROM:+0200
TZOFFSETTO:+0100
TZNAME:CET
DTSTART:20221030T010000
END:STANDARD
BEGIN:DAYLIGHT
TZOFFSETFROM:+0100
TZOFFSETTO:+0200
TZNAME:CEST
DTSTART:20230326T010000
END:DAYLIGHT
BEGIN:STANDARD
TZOFFSETFROM:+0200
TZOFFSETTO:+0100
TZNAME:CET
DTSTART:20231029T010000
END:STANDARD
BEGIN:DAYLIGHT
TZOFFSETFROM:+0100
TZOFFSETTO:+0200
TZNAME:CEST
DTSTART:20240331T010000
END:DAYLIGHT
BEGIN:STANDARD
TZOFFSETFROM:+0200
TZOFFSETTO:+0100
TZNAME:CET
DTSTART:20241027T010000
END:STANDARD
END:VTIMEZONE
BEGIN:VEVENT
DTSTART;VALUE=DATE:20230518
DTEND;VALUE=DATE:20230519
DTSTAMP:20260420T052022
CREATED:20230222T162130Z
LAST-MODIFIED:20230519T100706Z
UID:900-1684368000-1684454399@circularpsp.eu
SUMMARY:Open Market Consultation: Slovenia
DESCRIPTION:CircularPSP project is carrying out an Open Market Consultation (OMC) in the form of a series of events. \nOMC event took place on May 18\, 2023. During the OMC procurers informed potential suppliers (industry) about the CircularPSP pre-commercial procurement opportunity\, explained in detail the pre-commercial procurement process\, opened a dialogue with potential suppliers about the scope of procurement envisaged in the project\, facilitated matchmaking among potential suppliers in need of support in the forming of consortia. \nOMC presentation (PDF) in Slovenian \nEnter details in Matchmaking form and answer the Survey \n \n00:00 Dobrodošlica in uvod \n00:31:12 Javno naročanje inovacij \n00:46:30 Cilj in obseg projekta CircularPSP \n01:00:35 Javno naročanje in razpisni postopek \n01:15:47 Vprašanja in odgovori \n01:20:41 Naslednji koraki
URL:https://circularpsp.eu/event/omc-information-meeting-slovenia/
CATEGORIES:CircularPSP
END:VEVENT
BEGIN:VEVENT
DTSTART;TZID=Europe/Berlin:20230509T163000
DTEND;TZID=Europe/Berlin:20230509T183000
DTSTAMP:20260420T052022
CREATED:20230221T105315Z
LAST-MODIFIED:20230511T113345Z
UID:745-1683649800-1683657000@circularpsp.eu
SUMMARY:Open Market Consultation: Berlin
DESCRIPTION:CircularPSP project is carrying out an Open Market Consultation (OMC) in the form of a series of events. \nOMC event took place on May 9\, 2023. During the OMC procurers informed potential suppliers (industry) about the CircularPSP pre-commercial procurement opportunity\, explained in detail the pre-commercial procurement process\,\nopened a dialogue with potential suppliers about the scope of procurement envisaged in the project\, facilitated matchmaking among potential suppliers in need of support in the forming of consortia. \n\n\n\n\n\nOMC presentation (PDF) in German \nEnter details in Matchmaking form and answer the Survey \n\n\n\n\n\n \n00:00 Begrüßung und Einführung durch Circular Berlin \n 00:08:24 CircularPSP Ziel & Umfang \n 00:46:15 Beschaffung von Innovationen und Ausschreibungsprozess \n 00:57:40 Fragen und Antworten zu Projekt und Prozess \n 01:09:17 Nächste Schritte
URL:https://circularpsp.eu/event/berlin/
CATEGORIES:CircularPSP
END:VEVENT
END:VCALENDAR