BEGIN:VCALENDAR
VERSION:2.0
PRODID:-//CircularPSP - ECPv6.15.15//NONSGML v1.0//EN
CALSCALE:GREGORIAN
METHOD:PUBLISH
X-WR-CALNAME:CircularPSP
X-ORIGINAL-URL:https://circularpsp.eu
X-WR-CALDESC:Events for CircularPSP
REFRESH-INTERVAL;VALUE=DURATION:PT1H
X-Robots-Tag:noindex
X-PUBLISHED-TTL:PT1H
BEGIN:VTIMEZONE
TZID:Europe/Berlin
BEGIN:DAYLIGHT
TZOFFSETFROM:+0100
TZOFFSETTO:+0200
TZNAME:CEST
DTSTART:20250330T010000
END:DAYLIGHT
BEGIN:STANDARD
TZOFFSETFROM:+0200
TZOFFSETTO:+0100
TZNAME:CET
DTSTART:20251026T010000
END:STANDARD
BEGIN:DAYLIGHT
TZOFFSETFROM:+0100
TZOFFSETTO:+0200
TZNAME:CEST
DTSTART:20260329T010000
END:DAYLIGHT
BEGIN:STANDARD
TZOFFSETFROM:+0200
TZOFFSETTO:+0100
TZNAME:CET
DTSTART:20261025T010000
END:STANDARD
BEGIN:DAYLIGHT
TZOFFSETFROM:+0100
TZOFFSETTO:+0200
TZNAME:CEST
DTSTART:20270328T010000
END:DAYLIGHT
BEGIN:STANDARD
TZOFFSETFROM:+0200
TZOFFSETTO:+0100
TZNAME:CET
DTSTART:20271031T010000
END:STANDARD
END:VTIMEZONE
BEGIN:VEVENT
DTSTART;VALUE=DATE:20260224
DTEND;VALUE=DATE:20260228
DTSTAMP:20260421T010304
CREATED:20250826T074735Z
LAST-MODIFIED:20250826T074735Z
UID:5745-1771891200-1772236799@circularpsp.eu
SUMMARY:World Sustainable Energy Days 2026
DESCRIPTION:What are the World Sustainable Energy Days (WSED)?\n\n\nEnergy transition = energy independence\nGeopolitical instabilities\, high energy prices and growing global competition make one thing clear: Europe must urgently increase its energy independence. Energy efciency and renewable energy are the key assets in this transformation: They decrease energy imports\, reduce energy prices and make Europe more resilient. \nThe World Sustainable Energy Days (WSED) present policies\, technologies and business models which increase competitiveness and make energy more affordable. The event is a leading annual conference on the energy transition and climate neutrality with over 650 participants from more than 60 countries. \n\n\n\n\n\n\n\n\n\nWhen does it take place?\n24 – 27 February 2026 \n\nHow to join?\nMark your calender\, register today and join us in Wels at the World Sustainable Energy Days! \n\nContact\nConference office\nOÖ Energiesparverband\nLandstrasse 45\, 4020 Linz\, Austria\nTel. +43/732/7720-14386\noffice(at)esv.or.at \n\nConference venue\nStadthalle Wels\, Pollheimerstrasse 1\, 4600 Wels\, Austria \n\n\nWho attends the event?\nOver 650 experts from more than 60 countries each year! \n\nbusiness actors engaged in the energy transition: energy companies\, technology and equipment companies\, service providers\, planners\, developers\, financing community etc.\nthe energy research community\npublic sector representatives (e.g. EU institutions\, national\, regional and local governments\, energy agencies)\n\n\nWhere does it happen?\nIn Wels/Austria.\nUpper Austria\, one of Austria’s nine regions\, is a leader in the clean energy transition\, making the region an ideal location for this conference. Through significant increases in energy efficiency and renewable energy\, greenhouse gas emissions from buildings were reduced by 42 %. Over 72 % of all space heating and 33 % of the primary energy in Upper Austria already come from renewables. Over 4.7 billion Euro are invested annually in the energy transition. \n\n\nThe conference organiser: OÖ Energiesparverband\nThe OÖ Energiesparverband (ESV) is the energy agency of Upper Austria. The agency\, which was established by the regional government\, drives the energy transition by promoting energy efficiency\, renewables and e-mobility. It provides comprehensive services to households\, businesses of all sizes and municipalities. It also supports energy technology companies in the context of the Cleantech-Cluster.
URL:https://circularpsp.eu/event/world-sustainable-energy-days-2026/
CATEGORIES:Relevant
ATTACH;FMTTYPE=image/png:https://circularpsp.eu/wp-content/uploads/Website-event-banner-11.png
END:VEVENT
END:VCALENDAR