BEGIN:VCALENDAR
VERSION:2.0
PRODID:-//CircularPSP - ECPv6.15.15//NONSGML v1.0//EN
CALSCALE:GREGORIAN
METHOD:PUBLISH
X-ORIGINAL-URL:https://circularpsp.eu
X-WR-CALDESC:Events for CircularPSP
REFRESH-INTERVAL;VALUE=DURATION:PT1H
X-Robots-Tag:noindex
X-PUBLISHED-TTL:PT1H
BEGIN:VTIMEZONE
TZID:Europe/Berlin
BEGIN:DAYLIGHT
TZOFFSETFROM:+0100
TZOFFSETTO:+0200
TZNAME:CEST
DTSTART:20230326T010000
END:DAYLIGHT
BEGIN:STANDARD
TZOFFSETFROM:+0200
TZOFFSETTO:+0100
TZNAME:CET
DTSTART:20231029T010000
END:STANDARD
BEGIN:DAYLIGHT
TZOFFSETFROM:+0100
TZOFFSETTO:+0200
TZNAME:CEST
DTSTART:20240331T010000
END:DAYLIGHT
BEGIN:STANDARD
TZOFFSETFROM:+0200
TZOFFSETTO:+0100
TZNAME:CET
DTSTART:20241027T010000
END:STANDARD
BEGIN:DAYLIGHT
TZOFFSETFROM:+0100
TZOFFSETTO:+0200
TZNAME:CEST
DTSTART:20250330T010000
END:DAYLIGHT
BEGIN:STANDARD
TZOFFSETFROM:+0200
TZOFFSETTO:+0100
TZNAME:CET
DTSTART:20251026T010000
END:STANDARD
BEGIN:DAYLIGHT
TZOFFSETFROM:+0100
TZOFFSETTO:+0200
TZNAME:CEST
DTSTART:20260329T010000
END:DAYLIGHT
BEGIN:STANDARD
TZOFFSETFROM:+0200
TZOFFSETTO:+0100
TZNAME:CET
DTSTART:20261025T010000
END:STANDARD
BEGIN:DAYLIGHT
TZOFFSETFROM:+0100
TZOFFSETTO:+0200
TZNAME:CEST
DTSTART:20270328T010000
END:DAYLIGHT
BEGIN:STANDARD
TZOFFSETFROM:+0200
TZOFFSETTO:+0100
TZNAME:CET
DTSTART:20271031T010000
END:STANDARD
END:VTIMEZONE
BEGIN:VEVENT
DTSTART;TZID=Europe/Berlin:20240125T110000
DTEND;TZID=Europe/Berlin:20240125T130000
DTSTAMP:20260426T062944
CREATED:20231220T115100Z
LAST-MODIFIED:20240125T152747Z
UID:3529-1706180400-1706187600@circularpsp.eu
SUMMARY:Tender Application Training - Admin & Finance Parts
DESCRIPTION:CircularPSP invites all interested parties to learn about the tender documents which have been made public. \nThis webinar will coach and clarify questions focussing on the Administrative and Financial Parts. There is the opportunity to read through the Tender Documents (published here) before the event and prepare questions – procurers will also be present to answer questions from the suppliers during the Q&A session. \nChallenge Summary: Suppliers are to design\, develop and test an innovative ‘circular economy solution’ (CE-solution) that enables municipalities and their staff as well as businesses in the local economy to apply circular practice more quickly\, frequently\, widely and effectively. Individual users at City and Business are empowered through access to information\, knowledge\, circular wisdom\, guidance and training to act more circular more often and increasingly impactful whilst transitioning to a CE mindset. \nAgenda: \n\nWelcome & Introduction\nPCP vs. Traditional Procurement\nCore Tender Requirements\nStructure of Tender Documents\nQ&A\n\nOther Tender Events: This is the third webinar in the Tender Event Series\, the first marked the Tender Launch Event\, the second webinar (18 January) focussed on the Technical Part. Open Question Sessions will be organised on 15 February and at the end of February. \nPresentation \n \n00:00 Welcome and Introduction\n00:01:35 Tender Summary\n00:03:41 PCP Process and Core Terms\n00:16:14 Tender Submission\n00:30:47 Administrative Application Template – Document (TD5)\n00:38:58 Financial Application Template – Document (TD7)\n01:06:32 Q&A\n01:34:18 Next Steps
URL:https://circularpsp.eu/event/tender-event-admin-finance/
CATEGORIES:CircularPSP
ATTACH;FMTTYPE=image/png:https://circularpsp.eu/wp-content/uploads/Admin-and-Finance-Application-Training-Banner.png
END:VEVENT
BEGIN:VEVENT
DTSTART;TZID=Europe/Berlin:20240215T100000
DTEND;TZID=Europe/Berlin:20240215T140000
DTSTAMP:20260426T062944
CREATED:20240118T135329Z
LAST-MODIFIED:20240220T081348Z
UID:3912-1707991200-1708005600@circularpsp.eu
SUMMARY:Tender Questions Session I - Ask us Anything!
DESCRIPTION:On the 15th of February CircularPSP organised a open Questions Session for all interested parties to ask about the tender. \nPlease see the FAQ for a selection of the questions asked during this event. \nTopics discussed were:\n• Tender documents (technical)\n• Tender documents (admin and finance)\n• Consortia and Partners\n• PCP process\n• Etc. \nOther Tender Events: This is the fourth webinar in the Tender Event Series\, the first marked the Tender Launch\, the second webinar focussed on the Technical Part and the third focussed on the Administrative and Financial Parts. At the end of February\, a final Q&A session will be scheduled.
URL:https://circularpsp.eu/event/tender-questions-session-1/
CATEGORIES:CircularPSP
ATTACH;FMTTYPE=image/png:https://circularpsp.eu/wp-content/uploads/Website-Banner.png
END:VEVENT
BEGIN:VEVENT
DTSTART;TZID=Europe/Berlin:20240229T100000
DTEND;TZID=Europe/Berlin:20240229T140000
DTSTAMP:20260426T062944
CREATED:20240220T081612Z
LAST-MODIFIED:20240304T124850Z
UID:4157-1709200800-1709215200@circularpsp.eu
SUMMARY:Tender Questions Session II – Ask us Anything!
DESCRIPTION:On the 29th of February CircularPSP organised a second open Questions Session for all interested parties to ask about the tender. \nPlease see the FAQ for a selection of the questions asked during this event. \nTopics discussed were: \n\nTender documents (technical)\nTender documents (admin and finance)\nConsortia and Partners\nPCP process\nEtc.\n\nOther Tender Events: This is the fifth and last webinar in the Tender Event Series\, the first marked the Tender Launch\, the second webinar focussed on the Technical Part\, the third focussed on the Administrative and Financial Parts (recordings and presentations here) and the fourth was the first edition of the open Tender Questions Session.
URL:https://circularpsp.eu/event/tender-questions-session-2/
CATEGORIES:CircularPSP
ATTACH;FMTTYPE=image/png:https://circularpsp.eu/wp-content/uploads/Tender-Questions-Session-II.png
END:VEVENT
BEGIN:VEVENT
DTSTART;TZID=Europe/Berlin:20240530T080000
DTEND;TZID=Europe/Berlin:20240530T170000
DTSTAMP:20260426T062944
CREATED:20240530T131956Z
LAST-MODIFIED:20240530T131956Z
UID:4554-1717056000-1717088400@circularpsp.eu
SUMMARY:European Sustainable Energy Week (#EUSEW24)
DESCRIPTION:From 11 to 13 June\, the European Sustainable Energy Week brings together public authorities\, private companies\, NGOs and consumers to promote initiatives accelerating decarbonisation through green technologies and solutions towards a fair and just transition for people and competitive businesses. \n  \nCome meet CircularPSP at the EEIP Stand at the Exhibition Hall! Learn more about our project in fun and engaging ways and win a prize! \n  \nRegister here
URL:https://circularpsp.eu/event/european-sustainable-energy-week-eusew24/
CATEGORIES:CircularPSP
ATTACH;FMTTYPE=image/jpeg:https://circularpsp.eu/wp-content/uploads/LK-post.jpg
END:VEVENT
BEGIN:VEVENT
DTSTART;TZID=Europe/Berlin:20240912T110000
DTEND;TZID=Europe/Berlin:20240912T123000
DTSTAMP:20260426T062944
CREATED:20240710T084047Z
LAST-MODIFIED:20241216T162548Z
UID:4816-1726138800-1726144200@circularpsp.eu
SUMMARY:AI & Digital Platform enabling the Circular Economy Transition
DESCRIPTION:Details\nCircularPSP is an innovation procurement for AI and platform to support cities in their CE transition. To open access to developments and future testing\, we have established a wide-reaching Follower Network of cities and networks. The event is open\, and any party is invited to become a Follower without commitment. \n_________________________________________________________________________________________ \nThe second Follower Event is organised in coordination with the Circular Cities and Regions Initiative (CCRI) and presents the outcomes of the CircularPSP Tender and current work. Five Suppliers were selected and will present their approach. \nAgenda: \n\nCCRI-city Guimarães presents our horizontal challenges for circular economy transition\nThe CircularPSP Tender overview (empirica)\nSuppliers present their approach (CircularAI\, CIRRUS\, CREVICES\, Supercharge-Beyondly\, VCG)\nCE Taxonomy for cities (empirica)\nCircularPSP Roadmap + Invite to test solutions (empirica)\nQ&A\n\nThe event will not be recorded. \n\nPresentation (3.5MB) and Suppliers Videos: CircularAI\, CIRRUS\, CREVICES\, Supercharge-Beyondly\, VCG
URL:https://circularpsp.eu/event/ai-digital-platform-enabling-the-circular-economy-transition/
CATEGORIES:CircularPSP
ATTACH;FMTTYPE=image/png:https://circularpsp.eu/wp-content/uploads/Follower-Event-II-with-CCRI-Blog-banner.png
END:VEVENT
BEGIN:VEVENT
DTSTART;TZID=Europe/Berlin:20250227T110000
DTEND;TZID=Europe/Berlin:20250227T123000
DTSTAMP:20260426T062944
CREATED:20241216T160156Z
LAST-MODIFIED:20250304T094822Z
UID:5333-1740654000-1740659400@circularpsp.eu
SUMMARY:CircularPSP Follower Event - From Concept to Prototype: AI-powered Platform advancing Circularity
DESCRIPTION:CircularPSP is an innovation procurement for AI and platform to support cities in their CE transition. To open access to developments and future testing\, we have established a wide-reaching Follower Network of cities and networks. The event is open\, and any party is invited to become a Follower without commitment.  \n_______________________________________________________________________________________________________ \n  \nThe third Follower Event is organised in cooperation with Association of Cities and Regions for Sustainable Resource Management (ACR+). ACR+ will present their work in aiding cities to act on CE. CircularPSP will present current state-of-play including an update from the three Suppliers selected for Phase II. \n  \nAgenda: \n\nCollaborative work to unlock successful circular procurement (ACR+)\nCircularPSP status and Change Framework (empirica)\nSuppliers presentations and Q&A (CircularAI\, CIRRUS\, VCG)\nCE Taxonomy Update (empirica)\nCircularPSP Roadmap + Future invite to test solutions (empirica)\nQ&A\n\n  \nThe event will not be recorded. \n  \nPRESENTATION
URL:https://circularpsp.eu/event/circularpsp-follower-event-from-concept-to-prototype-ai-powered-platform-advancing-circularity/
CATEGORIES:CircularPSP
ATTACH;FMTTYPE=image/png:https://circularpsp.eu/wp-content/uploads/Webinar-Banner.png
END:VEVENT
BEGIN:VEVENT
DTSTART;TZID=Europe/Berlin:20250626T110000
DTEND;TZID=Europe/Berlin:20250626T120000
DTSTAMP:20260426T062944
CREATED:20250527T093113Z
LAST-MODIFIED:20250626T112908Z
UID:5688-1750935600-1750939200@circularpsp.eu
SUMMARY:Heading to EU Green Week 2025 - Partner Event
DESCRIPTION:Unlocking the Potential of Circular Economy with AI-powered Platforms\nDate & time | Thursday 26 June 2025 – 11:00-12:00 CEST (online webinar)Organisers | CircularPSP & empirica GmbHFormat | 60-minute event including panel discussion – free of charge\, registration required \nWhy this matters?\nEU Green Week 2025 is dedicated to “Circular Solutions for a Competitive EU\,” exploring how the circular economy can make Europe cleaner\, more competitive and more resilient. As an official Green Week Partner-Event\, our workshop dives into one of the hottest enablers of that transition: artificial-intelligence platforms designed for cities. \nWhat makes the CircularPSP platform unique?\n– AI trained on 1 000+ global case studies—instantly searchable in local context and language through curated taxonomies. \n– Mission cockpit—cities set\, monitor and report on circular goals across departments. \n– Step-by-step implementation guides—staff without prior CE expertise follow proven workflows; skills gaps are flagged and learning resources suggested automatically. \n– Smart procurement checker—validates tenders against circular criteria and contractual clauses in seconds. \n– Business engagement hub—local companies see upcoming demand shifts and access their own transition tools. \nBacked by eight purchasing cities and more than 90 follower organisations\, the PCP aggregates demand\, lowers costs and accelerates network effects for a pan-European solution. \nPresentation (6.7 MB)
URL:https://circularpsp.eu/event/heading-to-eu-green-week-2025-partners-event/
CATEGORIES:CircularPSP
ATTACH;FMTTYPE=image/png:https://circularpsp.eu/wp-content/uploads/Website-event-banner-10.png
END:VEVENT
BEGIN:VEVENT
DTSTART;TZID=Europe/Berlin:20260226T130000
DTEND;TZID=Europe/Berlin:20260226T141500
DTSTAMP:20260426T062944
CREATED:20251215T135007Z
LAST-MODIFIED:20260225T133759Z
UID:5923-1772110800-1772115300@circularpsp.eu
SUMMARY:Follower Event - From Pilots to Follower Testing: Two solutions to drive municipal circularity
DESCRIPTION:CircularPSP invites you to our next Follower Event on 26 February (13:00-14:15 CET): From Pilots to Follower Testing: Two solutions to drive municipal circularity. Two Suppliers will demonstrate their CE-solution and present a detailed testing approach for Followers\, which will start in March 2026 with priority given to municipalities and other public organisations.\n\nParticipation in this webinar is not required to join public testing. The event will be recorded.\n\nAgenda:\n\nIntroduction and welcome\nCircularPSP project overview and update\nSummary of product and access plans for Followers by both Suppliers (VCG/CircOS\, CircularAI)\nBreakout rooms for both Suppliers for more detailed demonstrations and questions\nConclusion and Q&A\n\n\nRegistration Link
URL:https://circularpsp.eu/event/from-pilots-to-follower-testing-two-solutions-to-drive-municipal-circularity/
LOCATION:Online
CATEGORIES:CircularPSP
ATTACH;FMTTYPE=image/png:https://circularpsp.eu/wp-content/uploads/Follower-Event-IV-Website-banner-1.png
END:VEVENT
END:VCALENDAR