BEGIN:VCALENDAR
VERSION:2.0
PRODID:-//CircularPSP - ECPv6.15.15//NONSGML v1.0//EN
CALSCALE:GREGORIAN
METHOD:PUBLISH
X-ORIGINAL-URL:https://circularpsp.eu
X-WR-CALDESC:Events for CircularPSP
REFRESH-INTERVAL;VALUE=DURATION:PT1H
X-Robots-Tag:noindex
X-PUBLISHED-TTL:PT1H
BEGIN:VTIMEZONE
TZID:Europe/Berlin
BEGIN:DAYLIGHT
TZOFFSETFROM:+0100
TZOFFSETTO:+0200
TZNAME:CEST
DTSTART:20220327T010000
END:DAYLIGHT
BEGIN:STANDARD
TZOFFSETFROM:+0200
TZOFFSETTO:+0100
TZNAME:CET
DTSTART:20221030T010000
END:STANDARD
BEGIN:DAYLIGHT
TZOFFSETFROM:+0100
TZOFFSETTO:+0200
TZNAME:CEST
DTSTART:20230326T010000
END:DAYLIGHT
BEGIN:STANDARD
TZOFFSETFROM:+0200
TZOFFSETTO:+0100
TZNAME:CET
DTSTART:20231029T010000
END:STANDARD
BEGIN:DAYLIGHT
TZOFFSETFROM:+0100
TZOFFSETTO:+0200
TZNAME:CEST
DTSTART:20240331T010000
END:DAYLIGHT
BEGIN:STANDARD
TZOFFSETFROM:+0200
TZOFFSETTO:+0100
TZNAME:CET
DTSTART:20241027T010000
END:STANDARD
END:VTIMEZONE
BEGIN:VEVENT
DTSTART;TZID=Europe/Berlin:20230629T090000
DTEND;TZID=Europe/Berlin:20230629T113000
DTSTAMP:20260425T223320
CREATED:20230222T160110Z
LAST-MODIFIED:20230630T112941Z
UID:898-1688029200-1688038200@circularpsp.eu
SUMMARY:Open Market Consultation: Sweden
DESCRIPTION:CircularPSP project is carrying out an Open Market Consultation (OMC) in the form of a series of events. \nOMC event took place on June 29\, 2023. During the OMC procurers informed potential suppliers (industry) about the CircularPSP pre-commercial procurement opportunity\, explained in detail the pre-commercial procurement process\,\nopened a dialogue with potential suppliers about the scope of procurement envisaged in the project\, facilitated matchmaking among potential suppliers in need of support in the forming of consortia. \n\n\n\n\n\nOMC presentation (PDF) in Swedish and English \nEnter details in Matchmaking form and answer the Survey \n \n0:00 Välkommen och inledning  \n20:55 CircularPSP Aim & Scope  \n50:42 Procurement and Tender Process  \n1:00:21 Next Steps  \n1:07:48 Q&A  \n1:14:48 Kommunernas arbete med omställningen till circulär ekonomi  \n1:30:27 Kommunernas arbete med digitaliseringsagendan
URL:https://circularpsp.eu/event/omc-information-meeting-sweden/
CATEGORIES:CircularPSP
END:VEVENT
END:VCALENDAR