BEGIN:VCALENDAR
VERSION:2.0
PRODID:-//CircularPSP - ECPv6.15.15//NONSGML v1.0//EN
CALSCALE:GREGORIAN
METHOD:PUBLISH
X-ORIGINAL-URL:https://circularpsp.eu
X-WR-CALDESC:Events for CircularPSP
REFRESH-INTERVAL;VALUE=DURATION:PT1H
X-Robots-Tag:noindex
X-PUBLISHED-TTL:PT1H
BEGIN:VTIMEZONE
TZID:Europe/Berlin
BEGIN:DAYLIGHT
TZOFFSETFROM:+0100
TZOFFSETTO:+0200
TZNAME:CEST
DTSTART:20240331T010000
END:DAYLIGHT
BEGIN:STANDARD
TZOFFSETFROM:+0200
TZOFFSETTO:+0100
TZNAME:CET
DTSTART:20241027T010000
END:STANDARD
BEGIN:DAYLIGHT
TZOFFSETFROM:+0100
TZOFFSETTO:+0200
TZNAME:CEST
DTSTART:20250330T010000
END:DAYLIGHT
BEGIN:STANDARD
TZOFFSETFROM:+0200
TZOFFSETTO:+0100
TZNAME:CET
DTSTART:20251026T010000
END:STANDARD
BEGIN:DAYLIGHT
TZOFFSETFROM:+0100
TZOFFSETTO:+0200
TZNAME:CEST
DTSTART:20260329T010000
END:DAYLIGHT
BEGIN:STANDARD
TZOFFSETFROM:+0200
TZOFFSETTO:+0100
TZNAME:CET
DTSTART:20261025T010000
END:STANDARD
END:VTIMEZONE
BEGIN:VEVENT
DTSTART;VALUE=DATE:20250603
DTEND;VALUE=DATE:20250606
DTSTAMP:20260420T233421
CREATED:20250121T152921Z
LAST-MODIFIED:20250121T152921Z
UID:5415-1748908800-1749167999@circularpsp.eu
SUMMARY:EU Green Week 2025
DESCRIPTION:This year\, the EU Green Week is all about the circular economy. \nWith its potential to drive sustainable competitiveness\, reduce waste\, and promote innovation\, circular economy offers a compelling solution to some of the EU’s most pressing challenges. \nSave the date: 3-5 June 2025\, in Brussels \nThe EU Green Week 2025 conference will take place in Brussels on 3-5 June to get everyone talking about how circularity can become a new economic reality. The event will feature among others: \n\nPolicy discussions (3-4 June): hear from expert speakers on how a circular use of resources can make the EU more competitive\, resilient\, and sustainable.\nStakeholder event (5 June): meet with industry leaders\, communities and other stakeholders to share ideas and inspire action\, in partnership with the European Circular Economy Stakeholder Platform and the European Circular Cities and Regions Initiative.\n\nRegistrations to the EU Green Week conference will open in April on this website. \nEU Green Week partner events \nThroughout June\, partner events will complement the annual conference by taking the conversation on circularity to local and regional levels\, and engaging businesses and communities across Europe and beyond. \nThe application period for EU Green Week partner events will open between 3-21 March 2025.
URL:https://circularpsp.eu/event/eu-green-week-2025/
LOCATION:Brussels
CATEGORIES:Relevant
ATTACH;FMTTYPE=image/png:https://circularpsp.eu/wp-content/uploads/Website-event-banner-1-1.png
END:VEVENT
END:VCALENDAR