BEGIN:VCALENDAR
VERSION:2.0
PRODID:-//CircularPSP - ECPv6.15.15//NONSGML v1.0//EN
CALSCALE:GREGORIAN
METHOD:PUBLISH
X-ORIGINAL-URL:https://circularpsp.eu
X-WR-CALDESC:Events for CircularPSP
REFRESH-INTERVAL;VALUE=DURATION:PT1H
X-Robots-Tag:noindex
X-PUBLISHED-TTL:PT1H
BEGIN:VTIMEZONE
TZID:Europe/Berlin
BEGIN:DAYLIGHT
TZOFFSETFROM:+0100
TZOFFSETTO:+0200
TZNAME:CEST
DTSTART:20240331T010000
END:DAYLIGHT
BEGIN:STANDARD
TZOFFSETFROM:+0200
TZOFFSETTO:+0100
TZNAME:CET
DTSTART:20241027T010000
END:STANDARD
BEGIN:DAYLIGHT
TZOFFSETFROM:+0100
TZOFFSETTO:+0200
TZNAME:CEST
DTSTART:20250330T010000
END:DAYLIGHT
BEGIN:STANDARD
TZOFFSETFROM:+0200
TZOFFSETTO:+0100
TZNAME:CET
DTSTART:20251026T010000
END:STANDARD
BEGIN:DAYLIGHT
TZOFFSETFROM:+0100
TZOFFSETTO:+0200
TZNAME:CEST
DTSTART:20260329T010000
END:DAYLIGHT
BEGIN:STANDARD
TZOFFSETFROM:+0200
TZOFFSETTO:+0100
TZNAME:CET
DTSTART:20261025T010000
END:STANDARD
END:VTIMEZONE
BEGIN:VEVENT
DTSTART;VALUE=DATE:20250520
DTEND;VALUE=DATE:20250521
DTSTAMP:20260421T114809
CREATED:20250312T090757Z
LAST-MODIFIED:20250312T090836Z
UID:5585-1747699200-1747785599@circularpsp.eu
SUMMARY:Symposium on Innovation in the Circularity of Plastic Materials
DESCRIPTION:Innovation in the circularity of plastic materials is essential due to the growing environmental challenges posed by plastic waste. Traditional linear production models\, where plastics are produced\, used\, and discarded\, contribute significantly to pollution\, resource depletion\, and climate change. The concept of circularity aims to reduce waste\, keep materials in use longer\, and minimize resource extraction\, all while supporting sustainability. \nCurrent plastic recycling rates are low\, with many plastics either being downcycled into lower-value products or not recycled at all. Innovations like chemical recycling\, which breaks down plastics into their basic monomers for reuse in high-quality applications\, or more efficient mechanical recycling methods\, can drastically improve the quality and efficiency of recycling processes. In this context\, innovation can play a critical role. \nAgainst this background\, we are calling for expressions of interest to participate in the Symposium on Innovation in the Circularity of Plastic Materials to be held on 20th May 2025\, in Kaunas\, Lithuania. The aim of the Symposium is to offer opportunities to share your ideas\, to discuss theoretical and practical issues and to connect the leaders in the fields of plastic engineering\, science and technology. The symposium aims to bring together experts\, researchers\, industry leaders\, and policymakers to discuss and showcase advancements in the recycling\, reuse\, and sustainable production of plastic materials. Apart from presentations\, displays and demonstrations by companies will be part of the event. \nThe Symposium is organized in cooperation with the Interreg Baltic Sea Region Programme project BALTIPLAST with the support of the Baltic University Programme. The project aims to reduce the generation of single-use plastic products and plastic packaging waste as well as to provide solutions for the use of plastic waste in the context of a circular economy. The main goal of the project is to identify\, test and implement concrete solutions for the reduction and management of plastic waste in the countries of the Baltic Sea region. Members of the Baltic University Programme are welcome to attend it. There are no fees\, but delegates need to cover their own travel and accommodation. \nPlease register and submit your proposal (abstract) first. You can access the template to be used here: Symposium on Innovation in the Circularity of Plastic Materials_abstract_template .  The abstract (proposal) will be added to the submission panel in your Symposium account. If your proposal is accepted for presentation\, then you may upload your full paper. The selected papers will be published in the book Innovation in the Circularity of Plastic Materials to be published by Springer Nature.
URL:https://circularpsp.eu/event/symposium-on-innovation-in-the-circularity-of-plastic-materials/
CATEGORIES:Relevant
ATTACH;FMTTYPE=image/png:https://circularpsp.eu/wp-content/uploads/Website-event-banner-4-1.png
END:VEVENT
BEGIN:VEVENT
DTSTART;VALUE=DATE:20250520
DTEND;VALUE=DATE:20250523
DTSTAMP:20260421T114809
CREATED:20250312T085534Z
LAST-MODIFIED:20250312T085534Z
UID:5582-1747699200-1747958399@circularpsp.eu
SUMMARY:Festival of Circular Economy
DESCRIPTION:The world’s biggest challenges demand the world’s biggest solutions. \nJoin changemakers and thought leaders from around the globe for three dynamic days of virtual live-streams and in-person connections. Dive into practical insights and inspiring use cases from the built environment and textiles sectors—two of the most resource-intensive industries. Gain strategies from sector trailblazers\, explore innovative business models\, and connect with circularity champions\, policymakers\, and innovators. Whether you’re here to network\, learn\, or lead\, this festival is your\ngateway to shaping a sustainable future. \n 
URL:https://circularpsp.eu/event/festival-of-circular-economy/
CATEGORIES:Relevant
ATTACH;FMTTYPE=image/png:https://circularpsp.eu/wp-content/uploads/Website-event-banner-3-1.png
END:VEVENT
END:VCALENDAR