BEGIN:VCALENDAR
VERSION:2.0
PRODID:-//CircularPSP - ECPv6.15.15//NONSGML v1.0//EN
CALSCALE:GREGORIAN
METHOD:PUBLISH
X-WR-CALNAME:CircularPSP
X-ORIGINAL-URL:https://circularpsp.eu
X-WR-CALDESC:Events for CircularPSP
REFRESH-INTERVAL;VALUE=DURATION:PT1H
X-Robots-Tag:noindex
X-PUBLISHED-TTL:PT1H
BEGIN:VTIMEZONE
TZID:Europe/Berlin
BEGIN:DAYLIGHT
TZOFFSETFROM:+0100
TZOFFSETTO:+0200
TZNAME:CEST
DTSTART:20240331T010000
END:DAYLIGHT
BEGIN:STANDARD
TZOFFSETFROM:+0200
TZOFFSETTO:+0100
TZNAME:CET
DTSTART:20241027T010000
END:STANDARD
BEGIN:DAYLIGHT
TZOFFSETFROM:+0100
TZOFFSETTO:+0200
TZNAME:CEST
DTSTART:20250330T010000
END:DAYLIGHT
BEGIN:STANDARD
TZOFFSETFROM:+0200
TZOFFSETTO:+0100
TZNAME:CET
DTSTART:20251026T010000
END:STANDARD
BEGIN:DAYLIGHT
TZOFFSETFROM:+0100
TZOFFSETTO:+0200
TZNAME:CEST
DTSTART:20260329T010000
END:DAYLIGHT
BEGIN:STANDARD
TZOFFSETFROM:+0200
TZOFFSETTO:+0100
TZNAME:CET
DTSTART:20261025T010000
END:STANDARD
END:VTIMEZONE
BEGIN:VEVENT
DTSTART;VALUE=DATE:20250402
DTEND;VALUE=DATE:20250405
DTSTAMP:20260421T222030
CREATED:20250121T153905Z
LAST-MODIFIED:20250121T153905Z
UID:5419-1743552000-1743811199@circularpsp.eu
SUMMARY:BASQUE CIRCULAR SUMMIT 2025 “TIME FOR ACTION”
DESCRIPTION:Five years have passed since the approval of the “European Green Deal”\, the economic growth and development strategy that was launched in 2020 and which is a strategic commitment to shifting towards a new circular economy model in Europe. \nDuring these last 5 years\, Europe has laid the foundations needed to change the economic model\, thanks to its driving new political initiatives (directives\, regulations\, legislations\, market instruments …). They range from transforming the main activity sectors to empowering consumers to be the key players on a new sustainable product market. \nFurthermore\, the transformation will be accompanied by a shift in focus by the financial sector; it is going to discriminate in favour of investments in sustainable assets\, which will mark the start of a new corporate transparency stage as regards sustainability reporting. \nThe aim is to address current environmental challenges – climate change\, depletion of resources and loss of biodiversity – and to make way for a new economic model where competitiveness and sustainability go hand in hand. \nThe foundations for the change have been laid; the challenges\, time lines and actions needed in our economies are now clear.  Start a new stage.  It’s time for action!
URL:https://circularpsp.eu/event/basque-circular-summit-2025-time-for-action/
LOCATION:Palacio Euskalduna\, Palacio Euskalduna Abandoibarra Etorb.\, 4\, Bilbao\, Bilbao\, 48011
CATEGORIES:Relevant
ATTACH;FMTTYPE=image/png:https://circularpsp.eu/wp-content/uploads/Website-event-banner-2.png
END:VEVENT
END:VCALENDAR