BEGIN:VCALENDAR
VERSION:2.0
PRODID:-//CircularPSP - ECPv6.15.15//NONSGML v1.0//EN
CALSCALE:GREGORIAN
METHOD:PUBLISH
X-ORIGINAL-URL:https://circularpsp.eu
X-WR-CALDESC:Events for CircularPSP
REFRESH-INTERVAL;VALUE=DURATION:PT1H
X-Robots-Tag:noindex
X-PUBLISHED-TTL:PT1H
BEGIN:VTIMEZONE
TZID:Europe/Berlin
BEGIN:DAYLIGHT
TZOFFSETFROM:+0100
TZOFFSETTO:+0200
TZNAME:CEST
DTSTART:20240331T010000
END:DAYLIGHT
BEGIN:STANDARD
TZOFFSETFROM:+0200
TZOFFSETTO:+0100
TZNAME:CET
DTSTART:20241027T010000
END:STANDARD
BEGIN:DAYLIGHT
TZOFFSETFROM:+0100
TZOFFSETTO:+0200
TZNAME:CEST
DTSTART:20250330T010000
END:DAYLIGHT
BEGIN:STANDARD
TZOFFSETFROM:+0200
TZOFFSETTO:+0100
TZNAME:CET
DTSTART:20251026T010000
END:STANDARD
BEGIN:DAYLIGHT
TZOFFSETFROM:+0100
TZOFFSETTO:+0200
TZNAME:CEST
DTSTART:20260329T010000
END:DAYLIGHT
BEGIN:STANDARD
TZOFFSETFROM:+0200
TZOFFSETTO:+0100
TZNAME:CET
DTSTART:20261025T010000
END:STANDARD
END:VTIMEZONE
BEGIN:VEVENT
DTSTART;VALUE=DATE:20250304
DTEND;VALUE=DATE:20250307
DTSTAMP:20260421T175849
CREATED:20250121T154541Z
LAST-MODIFIED:20250122T080142Z
UID:5423-1741046400-1741305599@circularpsp.eu
SUMMARY:Driving Plastic Circularity: Linking Policy\, Tech and Consumers
DESCRIPTION:The Go Circular Summit is a business-focused event where industry leaders come together to address the core challenges for plastics recycling. It covers the entire circular value chain of plastics\, from brand owners to recycling companies\, including the latest regulatory updates. \nThe plastics industry is undergoing significant changes driven by new regulations\, including the Global Plastics Treaty and the Packaging and Packaging Waste Regulation. Go Circular 2025 will address these developments through collaboration and knowledge exchange in key areas: \n\nSustainable design: Exploring innovative design principles to minimise waste and enhance recyclability\nAdvanced recycling technologies: Highlighting cutting-edge solutions for chemical recycling and efficient plastic processing\nCircular economy strategies: Developing closed-loop systems and responsible resource management\nPolicy and regulation: Examining the impact of new regulations and exploring collaborative solutions.\n\nThere’ll be debates\, networking sessions\, speeches\, a startup village and a guided site visit of the Shell Chemicals Park Moerdijk. \nThis year’s event will feature leading brand owners including Adidas\, Estée Lauder\, Henkel\, Lego Group\, Mattel\, Michelin\, Mondelez\, Nike and Aldi Süd (one of Europe’s largest retailers)\, alongside (petro)chemical manufacturers such as Neste\, BASF\, Dow and Eneos. Leading recycling technology providers – Interzero\, Tomra\, SYNOVA and Lummus Technologies\, BlueAlps – will share their latest developments. The European Commission\, Alliance to End Plastic Waste\, UNESDA and EXPRA will discuss how industries are adapting to a circular future. \nGo Circular 2025 will take place on 4-6 March in Rotterdam. The event will be in English and in person. This is a paid event.
URL:https://circularpsp.eu/event/5423/
CATEGORIES:Relevant
ATTACH;FMTTYPE=image/png:https://circularpsp.eu/wp-content/uploads/Website-event-banner-3.png
END:VEVENT
END:VCALENDAR