BEGIN:VCALENDAR
VERSION:2.0
PRODID:-//CircularPSP - ECPv6.15.15//NONSGML v1.0//EN
CALSCALE:GREGORIAN
METHOD:PUBLISH
X-WR-CALNAME:CircularPSP
X-ORIGINAL-URL:https://circularpsp.eu
X-WR-CALDESC:Events for CircularPSP
REFRESH-INTERVAL;VALUE=DURATION:PT1H
X-Robots-Tag:noindex
X-PUBLISHED-TTL:PT1H
BEGIN:VTIMEZONE
TZID:Europe/Berlin
BEGIN:DAYLIGHT
TZOFFSETFROM:+0100
TZOFFSETTO:+0200
TZNAME:CEST
DTSTART:20230326T010000
END:DAYLIGHT
BEGIN:STANDARD
TZOFFSETFROM:+0200
TZOFFSETTO:+0100
TZNAME:CET
DTSTART:20231029T010000
END:STANDARD
BEGIN:DAYLIGHT
TZOFFSETFROM:+0100
TZOFFSETTO:+0200
TZNAME:CEST
DTSTART:20240331T010000
END:DAYLIGHT
BEGIN:STANDARD
TZOFFSETFROM:+0200
TZOFFSETTO:+0100
TZNAME:CET
DTSTART:20241027T010000
END:STANDARD
BEGIN:DAYLIGHT
TZOFFSETFROM:+0100
TZOFFSETTO:+0200
TZNAME:CEST
DTSTART:20250330T010000
END:DAYLIGHT
BEGIN:STANDARD
TZOFFSETFROM:+0200
TZOFFSETTO:+0100
TZNAME:CET
DTSTART:20251026T010000
END:STANDARD
END:VTIMEZONE
BEGIN:VEVENT
DTSTART;VALUE=DATE:20241118
DTEND;VALUE=DATE:20241120
DTSTAMP:20260425T121909
CREATED:20241111T142308Z
LAST-MODIFIED:20241111T142308Z
UID:5271-1731888000-1732060799@circularpsp.eu
SUMMARY:Nordic Circular Summit 2024
DESCRIPTION:In 2024\, Nordic Circular Summit will take place in Helsinki\, Finland\, and online from 18th–19th November. The Nordic Circular Summit is co-hosted by Nordic Circular Hotspot and Nordic Innovation and it is an official World Circular Economy Forum Side Event. You can find more information and our other events on the Nordic Circular Hotspot website or by heading to our digital networking platform\, Nordic Circular Arena.
URL:https://circularpsp.eu/event/nordic-circular-summit-2024/
LOCATION:Helsinki\, Helsinki\, Finland
CATEGORIES:Relevant
ATTACH;FMTTYPE=image/svg+xml:https://circularpsp.eu/wp-content/uploads/logo.svg
END:VEVENT
END:VCALENDAR