BEGIN:VCALENDAR
VERSION:2.0
PRODID:-//CircularPSP - ECPv6.15.15//NONSGML v1.0//EN
CALSCALE:GREGORIAN
METHOD:PUBLISH
X-ORIGINAL-URL:https://circularpsp.eu
X-WR-CALDESC:Events for CircularPSP
REFRESH-INTERVAL;VALUE=DURATION:PT1H
X-Robots-Tag:noindex
X-PUBLISHED-TTL:PT1H
BEGIN:VTIMEZONE
TZID:Europe/Berlin
BEGIN:DAYLIGHT
TZOFFSETFROM:+0100
TZOFFSETTO:+0200
TZNAME:CEST
DTSTART:20230326T010000
END:DAYLIGHT
BEGIN:STANDARD
TZOFFSETFROM:+0200
TZOFFSETTO:+0100
TZNAME:CET
DTSTART:20231029T010000
END:STANDARD
BEGIN:DAYLIGHT
TZOFFSETFROM:+0100
TZOFFSETTO:+0200
TZNAME:CEST
DTSTART:20240331T010000
END:DAYLIGHT
BEGIN:STANDARD
TZOFFSETFROM:+0200
TZOFFSETTO:+0100
TZNAME:CET
DTSTART:20241027T010000
END:STANDARD
BEGIN:DAYLIGHT
TZOFFSETFROM:+0100
TZOFFSETTO:+0200
TZNAME:CEST
DTSTART:20250330T010000
END:DAYLIGHT
BEGIN:STANDARD
TZOFFSETFROM:+0200
TZOFFSETTO:+0100
TZNAME:CET
DTSTART:20251026T010000
END:STANDARD
END:VTIMEZONE
BEGIN:VEVENT
DTSTART;VALUE=DATE:20240325
DTEND;VALUE=DATE:20240328
DTSTAMP:20260426T050525
CREATED:20240122T141318Z
LAST-MODIFIED:20240122T142959Z
UID:3971-1711324800-1711583999@circularpsp.eu
SUMMARY:ChangeNOW 2024: the largest event of solutions for the planet
DESCRIPTION:During 3 days\, changeNOW brings together the most innovative solutions and impactful changemakers tackling our planet’s biggest challenges\, to take action\, together. ChangeNOW builds bridges and creates opportunities for thousands of key actors of change\, in an inspiring and action-oriented event. \nMore information and registration here \nAbout changeNOW: Launched in 2017\, changeNOW is a social enterprise that accelerates the environmental and social transition by fostering the deployment of concrete actions and solutions responding to the biggest challenges of our century.
URL:https://circularpsp.eu/event/changenow-2024-the-largest-event-of-solutions-for-the-planet/
CATEGORIES:Relevant
ATTACH;FMTTYPE=image/png:https://circularpsp.eu/wp-content/uploads/ChangeNOW-International-Summit-for-change-815759943.png
END:VEVENT
END:VCALENDAR