BEGIN:VCALENDAR
VERSION:2.0
PRODID:-//CircularPSP - ECPv6.15.15//NONSGML v1.0//EN
CALSCALE:GREGORIAN
METHOD:PUBLISH
X-ORIGINAL-URL:https://circularpsp.eu
X-WR-CALDESC:Events for CircularPSP
REFRESH-INTERVAL;VALUE=DURATION:PT1H
X-Robots-Tag:noindex
X-PUBLISHED-TTL:PT1H
BEGIN:VTIMEZONE
TZID:Europe/Berlin
BEGIN:DAYLIGHT
TZOFFSETFROM:+0100
TZOFFSETTO:+0200
TZNAME:CEST
DTSTART:20230326T010000
END:DAYLIGHT
BEGIN:STANDARD
TZOFFSETFROM:+0200
TZOFFSETTO:+0100
TZNAME:CET
DTSTART:20231029T010000
END:STANDARD
BEGIN:DAYLIGHT
TZOFFSETFROM:+0100
TZOFFSETTO:+0200
TZNAME:CEST
DTSTART:20240331T010000
END:DAYLIGHT
BEGIN:STANDARD
TZOFFSETFROM:+0200
TZOFFSETTO:+0100
TZNAME:CET
DTSTART:20241027T010000
END:STANDARD
BEGIN:DAYLIGHT
TZOFFSETFROM:+0100
TZOFFSETTO:+0200
TZNAME:CEST
DTSTART:20250330T010000
END:DAYLIGHT
BEGIN:STANDARD
TZOFFSETFROM:+0200
TZOFFSETTO:+0100
TZNAME:CET
DTSTART:20251026T010000
END:STANDARD
END:VTIMEZONE
BEGIN:VEVENT
DTSTART;TZID=Europe/Berlin:20240313T080000
DTEND;TZID=Europe/Berlin:20240314T170000
DTSTAMP:20260426T050522
CREATED:20231120T115928Z
LAST-MODIFIED:20231120T120059Z
UID:3264-1710316800-1710435600@circularpsp.eu
SUMMARY:Procura+ Conference 2024
DESCRIPTION:The City of Lisbon (Portugal) and ICLEI Europe invite you to the 11th Procura+ conference\, taking place on 13 and 14 March 2024 in Lisbon\, to join representatives of the European Commission\, Mayors of leading cities\, business leaders\, researchers and some of the brightest procurement minds. \nThe Procura+ conferences look at the role of procurement in AI; access to markets for SMEs\, start-ups and social enterprises; deep tech; digitalisation; e-Procurement; life cycle costing; monitoring; professionalisation; smart cities; social responsibility and supply chain management. Procura+ 2024 will present good practices and approaches for strategic procurement across thematic areas\, key product and service sectors such as biodiversity\, buildings; construction\, energy\, food and catering; ICT; mobility and textiles. \nThe Procura+ Conference series started in 1998 as a forum to promote exchange and dialogue on the latest strategies and practical solutions on sustainable\, circular and innovation procurement. \n  \nMore information on the conference’s website: https://conference.procuraplus.org/ \n 
URL:https://circularpsp.eu/event/procura-conference-2024/
ATTACH;FMTTYPE=image/png:https://circularpsp.eu/wp-content/uploads/p-lisbon.png
END:VEVENT
END:VCALENDAR